Workbook

Sheet Contents of the dataset
A3: Dataset for the paper "A Meta-analysis of the relationship between income inequality and economic growth"
A5: by Laura de Dominicis, Raymond J.G.M. Florax and Henri L.F. de Groot
A7: Scottish Journal of Political Economy (2008), vol. 55, no. 5. pp. 654-682
A11: Stucture of the Database:
A13: References: List of studies used in the meta-analysis, with bibliographical information.
A15: effectsize: information on the effect size.
A17: complete_database: complete alphanumerical database
A19: meta_alphanumerical: database with selected variables in alphanumerical format (used for the meta-analysis).
A21: meta numerical: database with selected variables in numerical format (used for the meta-analysis). Note: explanatory comments are added to the variables
A23: meta_input: numerical database ready to be imported for the meta-analysis.

Sheet References
A1: Study ID | B1: Study KEY | C1: Authors | D1: Title | E1: Journal or Working Paper | F1: Year | G1: volume | H1: Issue | I1: pages
A2: 1 | B2: ar(1994) | C2: Alesina, A. and Rodrik, D. | D2: Distributive Politics and Economic Growth | E2: Quarterly Journal of Economics | F2: 1994 | H2: 109 | I2: 465-490
A3: 2 | B3: bd(2003) | C3: Banerjee, A.V. and Duflo E. | D3: Inequality and Growth: What Can the Data Say | E3: Journal of Economic Growth | F3: 2003 | I3: 267-299
A4: 3 | B4: cl(1995) | C4: Clarke, R.G | D4: More Evidence on Income Distribution and Growth | E4: Journal of Development Economics | F4: 1995 | I4: 403-427
A5: 4 | B5: deol(2000) | C5: Deininger, K. and Olinto, P. | D5: Asset Distribution, Inequality, and Growth | E5: Policy Research Working Paper, World Bank | F5: 2000 | G5: working paper | H5: 2375 | I5: na
A6: 5 | B6: desq(1998) | C6: Deininger, K. and Squire, L. | D6: New ways of looking at old issues: inequality and growth | E6: Journal of Development Economics | F6: 1998 | G6: 57 | I6: 259-287
A7: 6 | B7: crdoe(2003) | C7: de la Croix, D. and Doepke, M. | D7: Inequality and Growth: Why Differential Fertility Matters | E7: American Economic Review | F7: 2003 | G7: 93 | H7: 4 | I7: 1091-1113
A8: 7 | B8: fig(1999) | C8: Figini, P. | D8: Inequality and Growth Revisited | E8: Trinity College Economic Papers, Dublin | F8: 1999 | G8: working paper | H8: 2 | I8: na
A9: 8 | B9: forb(2000) | C9: Forbes, K.J. | D9: A Reassessment of the Relationship Between Inequality and Growth | E9: American Economic Review | F9: 2000 | I9: 869-887
A10: 9 | B10: gz(2003) | C10: Gylfason, T. and Zoega, G. | D10: Inequality and Economic Growth: Do Natural Resources Matter? | E10: Growth and Inequality, eds. Theo Eicher and Stephen Turnovsky, MIT Press | F10: 2003 | I10: na
A11: 10 | B11: kk(2002) | C11: Keefer P., Knack, S. | D11: Polarization, Politics and Property Rights: Links Between Inequality and Growth | E11: Public Choice | F11: 2002 | G11: 111 | H11: 1-2 | I11: 127-154
A12: 11 | B12: kne(1999) | C12: Knell M. | D12: Social Comparisons, Inequality and Growth | E12: Journal of Institutional and Theoretical Economics | F12: 1999 | G12: 155 | H12: 4 | I12: 664-695
A13: 12 | B13: kno(2001) | C13: Knowles, S. | D13: Inequality and Economic Growth: the Empirical Relationship Reconsidered in Light of Comparable Data | E13: Journal of Development Studies | F13: 2005 | G13: 41 | H13: 1 | I13: 135-159
A14: 13 | B14: or(2001) | C14: Odedokun, M. and Round, J. | D14: Determinants of Income Inequality and its Effects on Economic Growth: Evidence from African Countries | E14: African Development Review | F14: 2004 | G14: 16 | H14: 2 | I14: 287-327
A15: 14 | B15: pt(1991) | C15: Persson, T. and Tabellini, G. | D15: Is Inequality Harmful for Growth? | E15: CEPR Discussion Paper | F15: 1991 | G15: working paper | H15: nr. 581
A16: 15 | B16: reh(2002) | C16: Rehme, G. | D16: Education, Economic Growth and Personal Income Inequality Across (Rich) Countries | E16: Luxembourg Income Studies (LIS) Working Paper | F16: 2002 | G16: working paper | H16: 300 | I16: na
A17: 16 | B17: lizou(1998) | C17: Li, H. and Zou, H. | D17: Income Inequality Is Not Harmful for Growth: Theory and Evidence | E17: Review of Development Economics | F17: 1998 | I17: 318-334
A18: 17 | B18: cas(2004) | C18: Castellò-Climent, A | D18: A Reassassement of the Relationship Between Inequality and Growth: What Human Capital Inequality Data Say? | E18: IVIE Working Paper | F18: 2004 | G18: WP-EC 2004-15 | H18: 15 | I18: na
A19: 18 | B19: cd(2002) | C19: Castello, A. and Domenech, R. | D19: Human Capital Inequality and Economic Growth: Some New Evidence | E19: Economic Journal | F19: 2002 | G19: 112 | H19: 478 | I19: 187-200
A20: 19 | B20: p(2002) | C20: Panizza, U. | D20: Income Inequality and Economic Growth: Evidence from American Data | E20: Journal of Economic Growth | F20: 2002 | H20: 7 | I20: 25-41
A21: 20 | B21: mb(2001) | C21: Mbababzi, J., Morrissey, O. and Milner, C. | D21: Are Inequality and Trade Liberalization Influences on Growth and Poverty? | E21: World Institute for Development Economics (WIDER) Research Discussion Paper | F21: 2001 | G21: working paper
A22: 21 | B22: b(2000) | C22: Barro, R. | D22: Inequality and Growth in a Panel of Countries | E22: Journal of Economic Growth | F22: 2000 | H22: 5 | I22: 5-32
A23: 22 | B23: v(2005) | C23: Voitchovsky, S. | D23: Does the Profile of Income Inequality Matter for Economic Growth? | E23: Journal of Economic Growth | F23: 2005 | G23: 10 | H23: 3 | I23: 273-296
A24: 23 | B24: tan(1999) | C24: Tanninen, H. | D24: Income Inequality, Government Expenditures and Growth | E24: Applied Economics | F24: 1999 | H24: 31 | I24: 1109-1117
A25: 24 | B25: ir(2005) | C25: Iradian, G. | D25: Inequality, Poverty, and Growth: Cross-Country Evidence | E25: IMF Working Paper | F25: 2005 | G25: working paper
A26: 25 | B26: Lit(2005) | C26: Litschig, S. | D26: Inequality, Institutions and Growth: Empirical Evidence from Participatory Budgeting Experiences in Brazil | E26: Paper presented at the X Spring Meeting of Young Economists, Geneve, April 2005 | F26: 2005
A27: 26 | B27: Lave(1997) | C27: Larrain, F.B. and Vergara R.M. | D27: Income distribution, Investment, and Growth | E27: Social Inequality: Values, Growth and the State (book title) | F27: 1997 | G27: book section
A28: 27 | B28: khde(1999) | C28: Khoo, L. and Dennis, B. | D28: Income Inequality, Fertility Choice, and Economic Growth: Theory and Evidence | E28: Development Discussion Papers | F28: 1999 | G28: working paper
A29: 28 | B29: gyzo(2003) | C29: Gylfason, T and Zoega, G. | D29: Education, Social Equality and Economic Growth: A View of the Landscape | E29: CESifo Economic Studies | F29: 2003 | G29: 49 | H29: 4 | I29: 557-559
A30: 29 | B30: gaza(1997) | C30: Galor, O., and Zang, H. | D30: Fertility, Income Distribution, and Economic Growth: Theory and Cross-Country Evidence | E30: Japan and the World Economy | F30: 1997 | G30: 9 | H30: 2 | I30: 197-229
A31: 31 | B31: scho(2005) | C31: Schipper, Y. and Hoogeveen, J.G. | D31: Growth Evidence Based on Small Area Welfare Estimates | E31: World Bank Policy Research Working Paper | F31: 2005 | G31: working paper
A32: 32 | B32: bebr(2006) | C32: Benjamin, D, Brandt, L., and Giles, J. | D32: Inequality and Growth in Rural China: Does Higher Inequality Impede Growth? | E32: IZA Discussion Paper Series | F32: 2006 | G32: working paper
A33: 33 | B33: ken(2004) | C33: Kenworthy, L. | D33: An Equality-Growth tradeoff? | E33: Egalitarian Capitalism? Incomes, Jobs and Equality in Affluence Countries (book) | F33: 2004 | G33: book section
A34: 34 | B34: Zhu(2001) | C34: Zhu, D. | D34: Inequality, Credit Market Imperfection, Segementation and Economic Growth | E34: CEnteR Working Papers | F34: 2001 | G34: working paper | H34: 2001-58
A35: 35 | B35: blni(2004) | C35: Bleaney, M. and Nishiyama A. | D35: Income inequality and growth—does the relationship vary with the income level? | E35: Economics Letters | F35: 2004 | G35: 84 | H35: 3 | I35: 349-355
A36: 36 | B36: Part(2005) | C36: Partridge, M.P. | D36: Does Income Distribution Affect U.S. State Economic Growth? | E36: Journal of Regional Science | F36: 2005 | G36: 45 | H36: 2 | I36: 363-394
A37: 37 | B37: Reh(2002a) | C37: Rehme, G. | D37: (Re-)Distribution of Personal Incomes, Education and Economic Performance Across Countries | E37: Luxembourg Income Studies (LIS) Working Paper | F37: 2002 | G37: working paper | H37: 299
A38: 38 | B38: Szhi(1999) | C38: Szekely and Hilgert | D38: What’s Behind the Inequality We Measure: An Investigation Using Latin American Data | E38: Inter-American Development Bank | F38: 1999 | G38: working paper | H38: 409

Sheet complete_database
A1: reference | B1: Study KEY | C1: year_p | D1: Study ID | E1: Estimate ID | F1: Obs ID | G1: Publication Status | H1: cross -section or pooled | I1: Definition Dependent variable | J1: ='effect size'!H1 -> dependent variable in percentage points | K1: ='effect size'!I1 -> gini in percentage points | L1: Effect Size | M1: Effect size corrected | N1: Standard Error | O1: standard errors corrected | P1: t-value | Q1: Estimator | R1: correction for heteroscedasticity | S1: First year | T1: Last year | U1: time span | V1: lenght of the growth period | W1: Aggregation | X1: OECD or LDC's | Y1: Income Inequality measure | Z1: income inequality dataset | AA1: quality of gini's | AB1: gini if intial or average | AC1: gini | AD1: number of inequalities | AE1: regional effects
A2: Alesina and Rodrik (1994) | B2: ar(1994) | C2: 1994 | D2: 1 | E2: 1 | F2: 1 | G2: journal | H2: cross-section | I2: annual growth rate | J2: ='effect size'!H2 -> yes | K2: ='effect size'!I2 -> no | L2: ='effect size'!L2 -> -5.7 | M2: ='effect size'!M2 -> -0.057 | N2: ='effect size'!N2 -> 2.3170732 | O2: ='effect size'!O2 -> 0.023170732 | P2: ='effect size'!Q2 -> -2.46 | Q2: ols | R2: no | S2: 1960 | T2: 1985 | U2: =(T2-S2) -> 25 | V2: =T2-S2 -> 25 | W2: country | X2: oecd&ldc | Y2: gini | Z2: jain | AA2: high | AB2: initial | AC2: mixed | AD2: 1 | AE2: no
A3: Alesina and Rodrik (1994) | B3: ar(1994) | C3: 1994 | D3: 1 | E3: 2 | F3: 2 | G3: journal | H3: cross-section | I3: annual growth rate | J3: ='effect size'!H3 -> yes | K3: ='effect size'!I3 -> no | L3: ='effect size'!L3 -> -15.98 | M3: ='effect size'!M3 -> -0.1598 | N3: ='effect size'!N3 -> 4.9781931 | O3: ='effect size'!O3 -> 0.049781931 | P3: ='effect size'!Q3 -> -3.21 | Q3: smlt | R3: no | S3: 1960 | T3: 1985 | U3: =(T3-S3) -> 25 | V3: =T3-S3 -> 25 | W3: country | X3: oecd&ldc | Y3: gini | Z3: jain | AA3: high | AB3: initial | AC3: mixed | AD3: 1 | AE3: no
A4: Alesina and Rodrik (1994) | B4: ar(1994) | C4: 1994 | D4: 1 | E4: 3 | F4: 3 | G4: journal | H4: cross-section | I4: annual growth rate | J4: ='effect size'!H4 -> yes | K4: ='effect size'!I4 -> no | L4: ='effect size'!L4 -> -3.58 | M4: ='effect size'!M4 -> -0.0358 | N4: ='effect size'!N4 -> 1.9779006 | O4: ='effect size'!O4 -> 0.019779006 | P4: ='effect size'!Q4 -> -1.81 | Q4: ols | R4: no | S4: 1960 | T4: 1985 | U4: =(T4-S4) -> 25 | V4: =T4-S4 -> 25 | W4: country | X4: oecd&ldc | Y4: gini | Z4: jain | AA4: high&low | AB4: initial | AC4: mixed | AD4: 1 | AE4: no
A5: Alesina and Rodrik (1994) | B5: ar(1994) | C5: 1994 | D5: 1 | E5: 4 | F5: 4 | G5: journal | H5: cross-section | I5: annual growth rate | J5: ='effect size'!H5 -> yes | K5: ='effect size'!I5 -> no | L5: ='effect size'!L5 -> -12.93 | M5: ='effect size'!M5 -> -0.1293 | N5: ='effect size'!N5 -> 4.1442308 | O5: ='effect size'!O5 -> 0.041442308 | P5: ='effect size'!Q5 -> -3.12 | Q5: smlt | R5: no | S5: 1960 | T5: 1985 | U5: =(T5-S5) -> 25 | V5: =T5-S5 -> 25 | W5: country | X5: oecd&ldc | Y5: gini | Z5: jain | AA5: high&low | AB5: initial | AC5: mixed | AD5: 1 | AE5: no
A6: Alesina and Rodrik (1994) | B6: ar(1994) | C6: 1994 | D6: 1 | E6: 5 | F6: 5 | G6: journal | H6: cross-section | I6: annual growth rate | J6: ='effect size'!H6 -> yes | K6: ='effect size'!I6 -> no | L6: ='effect size'!L6 -> -3.47 | M6: ='effect size'!M6 -> -0.0347 | N6: ='effect size'!N6 -> 1.9065934 | O6: ='effect size'!O6 -> 0.019065934 | P6: ='effect size'!Q6 -> -1.82 | Q6: ols | R6: no | S6: 1960 | T6: 1985 | U6: =(T6-S6) -> 25 | V6: =T6-S6 -> 25 | W6: country | X6: oecd&ldc | Y6: gini | Z6: jain | AA6: high&low | AB6: initial | AC6: mixed | AD6: 2 | AE6: no
A7: Alesina and Rodrik (1994) | B7: ar(1994) | C7: 1994 | D7: 1 | E7: 6 | F7: 6 | G7: journal | H7: cross-section | I7: annual growth rate | J7: ='effect size'!H7 -> yes | K7: ='effect size'!I7 -> no | L7: ='effect size'!L7 -> -3.45 | M7: ='effect size'!M7 -> -0.0345 | N7: ='effect size'!N7 -> 1.9273743 | O7: ='effect size'!O7 -> 0.019273743 | P7: ='effect size'!Q7 -> -1.79 | Q7: ols | R7: no | S7: 1960 | T7: 1985 | U7: =(T7-S7) -> 25 | V7: =T7-S7 -> 25 | W7: country | X7: oecd&ldc | Y7: gini | Z7: jain | AA7: high&low | AB7: initial | AC7: mixed | AD7: 2 | AE7: no
A8: Alesina and Rodrik (1994) | B8: ar(1994) | C8: 1994 | D8: 1 | E8: 7 | F8: 7 | G8: journal | H8: cross-section | I8: annual growth rate | J8: ='effect size'!H8 -> yes | K8: ='effect size'!I8 -> no | L8: ='effect size'!L8 -> -3.47 | M8: ='effect size'!M8 -> -0.0347 | N8: ='effect size'!N8 -> 1.9277778 | O8: ='effect size'!O8 -> 0.019277778 | P8: ='effect size'!Q8 -> -1.8 | Q8: ols | R8: no | S8: 1960 | T8: 1985 | U8: =(T8-S8) -> 25 | V8: =T8-S8 -> 25 | W8: country | X8: oecd&ldc | Y8: gini | Z8: jain | AA8: high&low | AB8: initial | AC8: mixed | AD8: 2 | AE8: no
A9: Alesina and Rodrik (1994) | B9: ar(1994) | C9: 1994 | D9: 1 | E9: 8 | F9: 8 | G9: journal | H9: cross-section | I9: annual growth rate | J9: ='effect size'!H9 -> yes | K9: ='effect size'!I9 -> no | L9: ='effect size'!L9 -> -9.71 | M9: ='effect size'!M9 -> -0.0971 | N9: ='effect size'!N9 -> 2.6823204 | O9: ='effect size'!O9 -> 0.026823204 | P9: ='effect size'!Q9 -> -3.62 | Q9: ols | R9: no | S9: 1960 | T9: 1985 | U9: =(T9-S9) -> 25 | V9: =T9-S9 -> 25 | W9: country | X9: oecd&ldc | Y9: gini | Z9: jain | AA9: high | AB9: initial | AC9: mixed | AD9: 1 | AE9: no
A10: Alesina and Rodrik (1994) | B10: ar(1994) | C10: 1994 | D10: 1 | E10: 9 | F10: 9 | G10: journal | H10: cross-section | I10: annual growth rate | J10: ='effect size'!H10 -> yes | K10: ='effect size'!I10 -> no | L10: ='effect size'!L10 -> -7.95 | M10: ='effect size'!M10 -> -0.0795 | N10: ='effect size'!N10 -> 2.277937 | O10: ='effect size'!O10 -> 0.02277937 | P10: ='effect size'!Q10 -> -3.49 | Q10: ols | R10: no | S10: 1960 | T10: 1985 | U10: =(T10-S10) -> 25 | V10: =T10-S10 -> 25 | W10: country | X10: oecd&ldc | Y10: gini | Z10: jain | AA10: high&low | AB10: initial | AC10: mixed | AD10: 1 | AE10: no
A11: Alesina and Rodrik (1994) | B11: ar(1994) | C11: 1994 | D11: 1 | E11: 10 | F11: 10 | G11: journal | H11: cross-section | I11: annual growth rate | J11: ='effect size'!H11 -> yes | K11: ='effect size'!I11 -> no | L11: ='effect size'!L11 -> -5.71 | M11: ='effect size'!M11 -> -0.0571 | N11: ='effect size'!N11 -> 2.4506438 | O11: ='effect size'!O11 -> 0.024506438 | P11: ='effect size'!Q11 -> -2.33 | Q11: ols | R11: no | S11: 1960 | T11: 1985 | U11: =(T11-S11) -> 25 | V11: =T11-S11 -> 25 | W11: country | X11: oecd&ldc | Y11: gini | Z11: jain | AA11: high&low | AB11: initial | AC11: mixed | AD11: 2 | AE11: no
A12: Alesina and Rodrik (1994) | B12: ar(1994) | C12: 1994 | D12: 1 | E12: 11 | F12: 11 | G12: journal | H12: cross-section | I12: annual growth rate | J12: ='effect size'!H12 -> yes | K12: ='effect size'!I12 -> no | L12: ='effect size'!L12 -> -5.74 | M12: ='effect size'!M12 -> -0.0574 | N12: ='effect size'!N12 -> 2.4956522 | O12: ='effect size'!O12 -> 0.024956522 | P12: ='effect size'!Q12 -> -2.3 | Q12: ols | R12: no | S12: 1960 | T12: 1985 | U12: =(T12-S12) -> 25 | V12: =T12-S12 -> 25 | W12: country | X12: oecd&ldc | Y12: gini | Z12: jain | AA12: high&low | AB12: initial | AC12: mixed | AD12: 2 | AE12: no
A13: Alesina and Rodrik (1994) | B13: ar(1994) | C13: 1994 | D13: 1 | E13: 12 | F13: 12 | G13: journal | H13: cross-section | I13: annual growth rate | J13: ='effect size'!H13 -> yes | K13: ='effect size'!I13 -> no | L13: ='effect size'!L13 -> -5.73 | M13: ='effect size'!M13 -> -0.0573 | N13: ='effect size'!N13 -> 2.4913043 | O13: ='effect size'!O13 -> 0.024913043 | P13: ='effect size'!Q13 -> -2.3 | Q13: ols | R13: no | S13: 1960 | T13: 1985 | U13: =(T13-S13) -> 25 | V13: =T13-S13 -> 25 | W13: country | X13: oecd&ldc | Y13: gini | Z13: jain | AA13: high&low | AB13: initial | AC13: mixed | AD13: 2 | AE13: no
A14: Banerjee and Duflo (2003) | B14: bd(2003) | C14: 2003 | D14: 2 | E14: 1 | F14: 13 | G14: journal | H14: pooled | I14: annual growth rate | J14: ='effect size'!H14 -> no | K14: ='effect size'!I14 -> yes | L14: ='effect size'!L14 -> 0.021 | M14: ='effect size'!M14 -> 0.021 | N14: ='effect size'!N14 -> 0.09 | O14: ='effect size'!O14 -> 0.09 | P14: ='effect size'!Q14 -> 0.23333333 | Q14: random effects | R14: no | S14: 1960 | T14: 1995 | U14: =(T14-S14) -> 35 | V14: 5 | W14: country | X14: oecd&ldc | Y14: gini | Z14: d&s | AA14: high | AB14: initial | AC14: adjusted | AD14: 1 | AE14: no
A15: Banerjee and Duflo (2003) | B15: bd(2003) | C15: 2003 | D15: 2 | E15: 2 | F15: 14 | G15: journal | H15: pooled | I15: annual growth rate | J15: ='effect size'!H15 -> no | K15: ='effect size'!I15 -> yes | L15: ='effect size'!L15 -> 0.298 | M15: ='effect size'!M15 -> 0.298 | N15: ='effect size'!N15 -> 0.18 | O15: ='effect size'!O15 -> 0.18 | P15: ='effect size'!Q15 -> 1.6555556 | Q15: first differences | R15: no | S15: 1960 | T15: 1995 | U15: =(T15-S15) -> 35 | V15: 5 | W15: country | X15: oecd&ldc | Y15: gini | Z15: d&s | AA15: high | AB15: initial | AC15: adjusted | AD15: 1 | AE15: no
A16: Banerjee and Duflo (2003) | B16: bd(2003) | C16: 2003 | D16: 2 | E16: 3 | F16: 15 | G16: journal | H16: pooled | I16: annual growth rate | J16: ='effect size'!H16 -> no | K16: ='effect size'!I16 -> yes | L16: ='effect size'!L16 -> 0.297 | M16: ='effect size'!M16 -> 0.297 | N16: ='effect size'!N16 -> 0.16 | O16: ='effect size'!O16 -> 0.16 | P16: ='effect size'!Q16 -> 1.85625 | Q16: fixed effects | R16: no | S16: 1960 | T16: 1995 | U16: =(T16-S16) -> 35 | V16: 5 | W16: country | X16: oecd&ldc | Y16: gini | Z16: d&s | AA16: high | AB16: initial | AC16: adjusted | AD16: 1 | AE16: no
A17: Banerjee and Duflo (2003) | B17: bd(2003) | C17: 2003 | D17: 2 | E17: 4 | F17: 16 | G17: journal | H17: pooled | I17: annual growth rate | J17: ='effect size'!H17 -> no | K17: ='effect size'!I17 -> yes | L17: ='effect size'!L17 -> 0.56 | M17: ='effect size'!M17 -> 0.56 | N17: ='effect size'!N17 -> 0.039 | O17: ='effect size'!O17 -> 0.039 | P17: ='effect size'!Q17 -> 14.358974 | Q17: gmm | R17: no | S17: 1960 | T17: 1995 | U17: =(T17-S17) -> 35 | V17: 5 | W17: country | X17: oecd&ldc | Y17: gini | Z17: d&s | AA17: high | AB17: initial | AC17: adjusted | AD17: 1 | AE17: no
A18: Banerjee and Duflo (2003) | B18: bd(2003) | C18: 2003 | D18: 2 | E18: 5 | F18: 17 | G18: journal | H18: pooled | I18: annual growth rate | J18: ='effect size'!H18 -> no | K18: ='effect size'!I18 -> yes | L18: ='effect size'!L18 -> -0.03 | M18: ='effect size'!M18 -> -0.03 | N18: ='effect size'!N18 -> 0.043 | O18: ='effect size'!O18 -> 0.043 | P18: ='effect size'!Q18 -> -0.69767442 | Q18: random effects | R18: no | S18: 1960 | T18: 1995 | U18: =(T18-S18) -> 35 | V18: 5 | W18: country | X18: oecd&ldc | Y18: gini | Z18: d&s | AA18: high | AB18: initial | AC18: adjusted | AD18: 1 | AE18: yes
A19: Banerjee and Duflo (2003) | B19: bd(2003) | C19: 2003 | D19: 2 | E19: 6 | F19: 18 | G19: journal | H19: pooled | I19: annual growth rate | J19: ='effect size'!H19 -> no | K19: ='effect size'!I19 -> yes | L19: ='effect size'!L19 -> 0.158 | M19: ='effect size'!M19 -> 0.158 | N19: ='effect size'!N19 -> 0.068 | O19: ='effect size'!O19 -> 0.068 | P19: ='effect size'!Q19 -> 2.3235294 | Q19: first differences | R19: no | S19: 1960 | T19: 1995 | U19: =(T19-S19) -> 35 | V19: 5 | W19: country | X19: oecd&ldc | Y19: gini | Z19: d&s | AA19: high | AB19: initial | AC19: adjusted | AD19: 1 | AE19: yes
A20: Banerjee and Duflo (2003) | B20: bd(2003) | C20: 2003 | D20: 2 | E20: 7 | F20: 19 | G20: journal | H20: pooled | I20: annual growth rate | J20: ='effect size'!H20 -> no | K20: ='effect size'!I20 -> yes | L20: ='effect size'!L20 -> 0.155 | M20: ='effect size'!M20 -> 0.155 | N20: ='effect size'!N20 -> 0.063 | O20: ='effect size'!O20 -> 0.063 | P20: ='effect size'!Q20 -> 2.4603175 | Q20: fixed effects | R20: no | S20: 1960 | T20: 1995 | U20: =(T20-S20) -> 35 | V20: 5 | W20: country | X20: oecd&ldc | Y20: gini | Z20: d&s | AA20: high | AB20: initial | AC20: adjusted | AD20: 1 | AE20: yes
A21: Banerjee and Duflo (2003) | B21: bd(2003) | C21: 2003 | D21: 2 | E21: 8 | F21: 20 | G21: journal | H21: pooled | I21: annual growth rate | J21: ='effect size'!H21 -> no | K21: ='effect size'!I21 -> yes | L21: ='effect size'!L21 -> 0.27 | M21: ='effect size'!M21 -> 0.27 | N21: ='effect size'!N21 -> 0.016 | O21: ='effect size'!O21 -> 0.016 | P21: ='effect size'!Q21 -> 16.875 | Q21: gmm | R21: no | S21: 1960 | T21: 1995 | U21: =(T21-S21) -> 35 | V21: 5 | W21: country | X21: oecd&ldc | Y21: gini | Z21: d&s | AA21: high | AB21: initial | AC21: adjusted | AD21: 1 | AE21: yes
A22: Clarke (1995) | B22: cl(1995) | C22: 1995 | D22: 3 | E22: 1 | F22: 21 | G22: journal | H22: cross-section | I22: annual growth rate | J22: ='effect size'!H22 -> no | K22: ='effect size'!I22 -> no | L22: ='effect size'!L22 -> -0.0691 | M22: ='effect size'!M22 -> -0.0691 | N22: ='effect size'!N22 -> 0.026679537 | O22: ='effect size'!O22 -> 0.026679537 | P22: ='effect size'!Q22 -> -2.59 | Q22: ols | R22: no | S22: 1960 | T22: 1988 | U22: =(T22-S22) -> 28 | V22: =T22-S22 -> 28 | W22: country | X22: oecd&ldc | Y22: gini | Z22: jain | AA22: high&low | AB22: initial | AC22: mixed | AD22: 1 | AE22: no
A23: Clarke (1995) | B23: cl(1995) | C23: 1995 | D23: 3 | E23: 2 | F23: 22 | G23: journal | H23: cross-section | I23: annual growth rate | J23: ='effect size'!H23 -> no | K23: ='effect size'!I23 -> no | L23: ='effect size'!L23 -> -0.0547 | M23: ='effect size'!M23 -> -0.0547 | N23: ='effect size'!N23 -> 0.025207373 | O23: ='effect size'!O23 -> 0.025207373 | P23: ='effect size'!Q23 -> -2.17 | Q23: ols | R23: no | S23: 1960 | T23: 1988 | U23: =(T23-S23) -> 28 | V23: =T23-S23 -> 28 | W23: country | X23: oecd&ldc | Y23: gini | Z23: jain | AA23: high&low | AB23: initial | AC23: mixed | AD23: 1 | AE23: yes
A24: Clarke (1995) | B24: cl(1995) | C24: 1995 | D24: 3 | E24: 3 | F24: 23 | G24: journal | H24: cross-section | I24: annual growth rate | J24: ='effect size'!H24 -> no | K24: ='effect size'!I24 -> no | L24: ='effect size'!L24 -> -0.0678 | M24: ='effect size'!M24 -> -0.0678 | N24: ='effect size'!N24 -> 0.028728814 | O24: ='effect size'!O24 -> 0.028728814 | P24: ='effect size'!Q24 -> -2.36 | Q24: ols | R24: no | S24: 1960 | T24: 1988 | U24: =(T24-S24) -> 28 | V24: =T24-S24 -> 28 | W24: country | X24: oecd&ldc | Y24: gini | Z24: jain | AA24: high&low | AB24: initial | AC24: mixed | AD24: 1 | AE24: yes
A25: Clarke (1995) | B25: cl(1995) | C25: 1995 | D25: 3 | E25: 4 | F25: 24 | G25: journal | H25: cross-section | I25: annual growth rate | J25: ='effect size'!H25 -> no | K25: ='effect size'!I25 -> no | L25: ='effect size'!L25 -> -0.0691 | M25: ='effect size'!M25 -> -0.0691 | N25: ='effect size'!N25 -> 0.022730263 | O25: ='effect size'!O25 -> 0.022730263 | P25: ='effect size'!Q25 -> -3.04 | Q25: ols | R25: yes | S25: 1960 | T25: 1988 | U25: =(T25-S25) -> 28 | V25: =T25-S25 -> 28 | W25: country | X25: oecd&ldc | Y25: gini | Z25: jain | AA25: high&low | AB25: initial | AC25: mixed | AD25: 1 | AE25: no
A26: Clarke (1995) | B26: cl(1995) | C26: 1995 | D26: 3 | E26: 5 | F26: 25 | G26: journal | H26: cross-section | I26: annual growth rate | J26: ='effect size'!H26 -> no | K26: ='effect size'!I26 -> no | L26: ='effect size'!L26 -> -0.0589 | M26: ='effect size'!M26 -> -0.0589 | N26: ='effect size'!N26 -> 0.017172012 | O26: ='effect size'!O26 -> 0.017172012 | P26: ='effect size'!Q26 -> -3.43 | Q26: ols | R26: no | S26: 1960 | T26: 1988 | U26: =(T26-S26) -> 28 | V26: =T26-S26 -> 28 | W26: country | X26: oecd&ldc | Y26: gini | Z26: jain | AA26: high&low | AB26: initial | AC26: mixed | AD26: 1 | AE26: no
A27: Clarke (1995) | B27: cl(1995) | C27: 1995 | D27: 3 | E27: 6 | F27: 26 | G27: journal | H27: cross-section | I27: annual growth rate | J27: ='effect size'!H27 -> no | K27: ='effect size'!I27 -> no | L27: ='effect size'!L27 -> -0.1713 | M27: ='effect size'!M27 -> -0.1713 | N27: ='effect size'!N27 -> 0.051441441 | O27: ='effect size'!O27 -> 0.051441441 | P27: ='effect size'!Q27 -> -3.33 | Q27: smlt | R27: no | S27: 1960 | T27: 1988 | U27: =(T27-S27) -> 28 | V27: =T27-S27 -> 28 | W27: country | X27: oecd&ldc | Y27: gini | Z27: jain | AA27: high&low | AB27: initial | AC27: mixed | AD27: 1 | AE27: no
A28: Clarke (1995) | B28: cl(1995) | C28: 1995 | D28: 3 | E28: 7 | F28: 27 | G28: journal | H28: cross-section | I28: annual growth rate | J28: ='effect size'!H28 -> no | K28: ='effect size'!I28 -> no | L28: ='effect size'!L28 -> -0.0783 | M28: ='effect size'!M28 -> -0.0783 | N28: ='effect size'!N28 -> 0.02943609 | O28: ='effect size'!O28 -> 0.02943609 | P28: ='effect size'!Q28 -> -2.66 | Q28: ols | R28: yes | S28: 1960 | T28: 1988 | U28: =(T28-S28) -> 28 | V28: =T28-S28 -> 28 | W28: country | X28: oecd&ldc | Y28: gini | Z28: jain | AA28: high&low | AB28: initial | AC28: mixed | AD28: 1 | AE28: no
A29: Deininger and Olinto (2000) | B29: deol(2000) | C29: 2000 | D29: 4 | E29: 1 | F29: 28 | G29: working paper | H29: pooled | I29: annual growth rate | J29: ='effect size'!H29 -> yes | K29: ='effect size'!I29 -> yes | L29: ='effect size'!L29 -> 0.0017 | M29: ='effect size'!M29 -> 0.17 | N29: ='effect size'!N29 -> 0.0021 | O29: ='effect size'!O29 -> 0.21 | P29: ='effect size'!Q29 -> 0.80952381 | Q29: gmm | R29: no | S29: 1960 | T29: 1990 | U29: =(T29-S29) -> 30 | V29: 5 | W29: country | X29: oecd&ldc | Y29: gini | Z29: d&s | AA29: high | AB29: average | AC29: mixed | AD29: 2 | AE29: no
A30: Deininger and Olinto (2000) | B30: deol(2000) | C30: 2000 | D30: 4 | E30: 2 | F30: 29 | G30: working paper | H30: pooled | I30: annual growth rate | J30: ='effect size'!H30 -> yes | K30: ='effect size'!I30 -> yes | L30: ='effect size'!L30 -> -0.0035 | M30: ='effect size'!M30 -> -0.35 | N30: ='effect size'!N30 -> 0.001 | O30: ='effect size'!O30 -> 0.1 | P30: ='effect size'!Q30 -> -3.5 | Q30: gmm | R30: no | S30: 1960 | T30: 1990 | U30: =(T30-S30) -> 30 | V30: 5 | W30: country | X30: oecd&ldc | Y30: gini | Z30: d&s | AA30: high | AB30: average | AC30: mixed | AD30: 2 | AE30: no
A31: Deininger and Olinto (2000) | B31: deol(2000) | C31: 2000 | D31: 4 | E31: 3 | F31: 30 | G31: working paper | H31: pooled | I31: annual growth rate | J31: ='effect size'!H31 -> yes | K31: ='effect size'!I31 -> yes | L31: ='effect size'!L31 -> 0.0033 | M31: ='effect size'!M31 -> 0.33 | N31: ='effect size'!N31 -> 0.0023 | O31: ='effect size'!O31 -> 0.23 | P31: ='effect size'!Q31 -> 1.4347826 | Q31: fixed effects | R31: no | S31: 1960 | T31: 1990 | U31: =(T31-S31) -> 30 | V31: 5 | W31: country | X31: oecd&ldc | Y31: gini | Z31: d&s | AA31: high | AB31: average | AC31: mixed | AD31: 1 | AE31: no
A32: Deininger and Olinto (2000) | B32: deol(2000) | C32: 2000 | D32: 4 | E32: 4 | F32: 31 | G32: working paper | H32: pooled | I32: annual growth rate | J32: ='effect size'!H32 -> yes | K32: ='effect size'!I32 -> yes | L32: ='effect size'!L32 -> 0.0041 | M32: ='effect size'!M32 -> 0.41 | N32: ='effect size'!N32 -> 0.0016 | O32: ='effect size'!O32 -> 0.16 | P32: ='effect size'!Q32 -> 2.5625 | Q32: gmm | R32: no | S32: 1960 | T32: 1990 | U32: =(T32-S32) -> 30 | V32: 5 | W32: country | X32: oecd&ldc | Y32: gini | Z32: d&s | AA32: high | AB32: average | AC32: mixed | AD32: 2 | AE32: no
A33: Deininger and Olinto (2000) | B33: deol(2000) | C33: 2000 | D33: 4 | E33: 5 | F33: 32 | G33: working paper | H33: pooled | I33: annual growth rate | J33: ='effect size'!H33 -> yes | K33: ='effect size'!I33 -> yes | L33: ='effect size'!L33 -> -0.0057 | M33: ='effect size'!M33 -> -0.57 | N33: ='effect size'!N33 -> 0.0009 | O33: ='effect size'!O33 -> 0.09 | P33: ='effect size'!Q33 -> -6.3333333 | Q33: gmm | R33: no | S33: 1960 | T33: 1990 | U33: =(T33-S33) -> 30 | V33: 5 | W33: country | X33: oecd&ldc | Y33: gini | Z33: d&s | AA33: high | AB33: average | AC33: mixed | AD33: 2 | AE33: no
A34: Deininger and Olinto (2000) | B34: deol(2000) | C34: 2000 | D34: 4 | E34: 6 | F34: 33 | G34: working paper | H34: pooled | I34: annual growth rate | J34: ='effect size'!H34 -> yes | K34: ='effect size'!I34 -> yes | L34: ='effect size'!L34 -> 0.0033 | M34: ='effect size'!M34 -> 0.33 | N34: ='effect size'!N34 -> 0.0023 | O34: ='effect size'!O34 -> 0.23 | P34: ='effect size'!Q34 -> 1.4347826 | Q34: fixed effects | R34: no | S34: 1960 | T34: 1990 | U34: =(T34-S34) -> 30 | V34: 5 | W34: country | X34: oecd&ldc | Y34: gini | Z34: d&s | AA34: high | AB34: average | AC34: mixed | AD34: 1 | AE34: no
A35: Deininger and Olinto (2000) | B35: deol(2000) | C35: 2000 | D35: 4 | E35: 7 | F35: 34 | G35: working paper | H35: pooled | I35: annual growth rate | J35: ='effect size'!H35 -> yes | K35: ='effect size'!I35 -> yes | L35: ='effect size'!L35 -> 0.0046 | M35: ='effect size'!M35 -> 0.46 | N35: ='effect size'!N35 -> 0.001 | O35: ='effect size'!O35 -> 0.1 | P35: ='effect size'!Q35 -> 4.6 | Q35: gmm | R35: no | S35: 1960 | T35: 1990 | U35: =(T35-S35) -> 30 | V35: 5 | W35: country | X35: oecd&ldc | Y35: gini | Z35: d&s | AA35: high | AB35: average | AC35: mixed | AD35: 3 | AE35: no
A36: Deininger and Olinto (2000) | B36: deol(2000) | C36: 2000 | D36: 4 | E36: 8 | F36: 35 | G36: working paper | H36: pooled | I36: annual growth rate | J36: ='effect size'!H36 -> yes | K36: ='effect size'!I36 -> yes | L36: ='effect size'!L36 -> 0.0009 | M36: ='effect size'!M36 -> 0.09 | N36: ='effect size'!N36 -> 0.0006 | O36: ='effect size'!O36 -> 0.06 | P36: ='effect size'!Q36 -> 1.5 | Q36: gmm | R36: no | S36: 1960 | T36: 1990 | U36: =(T36-S36) -> 30 | V36: 5 | W36: country | X36: oecd&ldc | Y36: gini | Z36: d&s | AA36: high | AB36: average | AC36: mixed | AD36: 3 | AE36: no
A37: Deininger and Olinto (2000) | B37: deol(2000) | C37: 2000 | D37: 4 | E37: 9 | F37: 36 | G37: working paper | H37: pooled | I37: annual growth rate | J37: ='effect size'!H37 -> yes | K37: ='effect size'!I37 -> yes | L37: ='effect size'!L37 -> 0.0032 | M37: ='effect size'!M37 -> 0.32 | N37: ='effect size'!N37 -> 0.0022 | O37: ='effect size'!O37 -> 0.22 | P37: ='effect size'!Q37 -> 1.4545455 | Q37: fixed effects | R37: no | S37: 1960 | T37: 1990 | U37: =(T37-S37) -> 30 | V37: 5 | W37: country | X37: oecd&ldc | Y37: gini | Z37: d&s | AA37: high | AB37: average | AC37: mixed | AD37: 1 | AE37: no
A38: Deininger and Squire (1998) | B38: desq(1998) | C38: 1998 | D38: 5 | E38: 1 | F38: 37 | G38: journal | H38: cross-section | I38: annual growth rate | J38: ='effect size'!H38 -> yes | K38: ='effect size'!I38 -> yes | L38: ='effect size'!L38 -> -0.047 | M38: ='effect size'!M38 -> -0.047 | N38: ='effect size'!N38 -> 0.016785714 | O38: ='effect size'!O38 -> 0.016785714 | P38: ='effect size'!Q38 -> -2.8 | Q38: ols | R38: no | S38: 1960 | T38: 1992 | U38: =(T38-S38) -> 32 | V38: =T38-S38 -> 32 | W38: country | X38: oecd&ldc | Y38: gini | Z38: d&s | AA38: high | AB38: average | AC38: mixed | AD38: 1 | AE38: no
A39: Deininger and Squire (1998) | B39: desq(1998) | C39: 1998 | D39: 5 | E39: 2 | F39: 38 | G39: journal | H39: cross-section | I39: annual growth rate | J39: ='effect size'!H39 -> yes | K39: ='effect size'!I39 -> yes | L39: ='effect size'!L39 -> -0.019 | M39: ='effect size'!M39 -> -0.019 | N39: ='effect size'!N39 -> 0.02 | O39: ='effect size'!O39 -> 0.02 | P39: ='effect size'!Q39 -> -0.95 | Q39: ols | R39: no | S39: 1960 | T39: 1992 | U39: =(T39-S39) -> 32 | V39: =T39-S39 -> 32 | W39: country | X39: oecd&ldc | Y39: gini | Z39: d&s | AA39: high | AB39: average | AC39: mixed | AD39: 1 | AE39: yes
A40: Deininger and Squire (1998) | B40: desq(1998) | C40: 1998 | D40: 5 | E40: 3 | F40: 39 | G40: journal | H40: cross-section | I40: annual growth rate | J40: ='effect size'!H40 -> yes | K40: ='effect size'!I40 -> yes | L40: ='effect size'!L40 -> -0.025 | M40: ='effect size'!M40 -> -0.025 | N40: ='effect size'!N40 -> 0.018656716 | O40: ='effect size'!O40 -> 0.018656716 | P40: ='effect size'!Q40 -> -1.34 | Q40: ols | R40: no | S40: 1960 | T40: 1992 | U40: =(T40-S40) -> 32 | V40: =T40-S40 -> 32 | W40: country | X40: ldc | Y40: gini | Z40: d&s | AA40: high | AB40: average | AC40: mixed | AD40: 2 | AE40: no
...

Sheet effect size
A1: reference | B1: Study ID | C1: Estimate ID | D1: Obs ID | E1: cross -section or pooled | F1: Definition Dependent variable | G1: Estimator | H1: dependent variable in percentage points | I1: gini in percentage points | J1: lenght of growth episode | K1: Initial GDP estimate | L1: Effect Size | M1: effect size corrected | N1: Standard Error | O1: SE corrected | P1: t-value | Q1: t-value_corr | R1: comments
A2: Alesina and Rodrik (1994) | B2: 1 | C2: 1 | D2: 1 | E2: cross-section | F2: annual growth rate | G2: ols | H2: yes | I2: no | J2: 25 | K2: -0.44 | L2: -5.7 | M2: -0.057 | N2: 2.3170732 | O2: 0.023170732 | P2: -2.46 | Q2: -2.46 | U2: Table 1: transformation of the effect size
A3: Alesina and Rodrik (1994) | B3: 1 | C3: 2 | D3: 2 | E3: cross-section | F3: annual growth rate | G3: smlt | H3: yes | I3: no | J3: 25 | K3: -0.52 | L3: -15.98 | M3: -0.1598 | N3: 4.9781931 | O3: 0.049781931 | P3: -3.21 | Q3: -3.21 | R3: (Alesina and Rodrik) | W3: Gini coefficient
A4: Alesina and Rodrik (1994) | B4: 1 | C4: 3 | D4: 3 | E4: cross-section | F4: annual growth rate | G4: ols | H4: yes | I4: no | J4: 25 | K4: -0.48 | L4: -3.58 | M4: -0.0358 | N4: 1.9779006 | O4: 0.019779006 | P4: -1.81 | Q4: -1.81 | R4: the correct effect sizes have been obtained as: | V4: percentage points | W4: no | X4: yes
A5: Alesina and Rodrik (1994) | B5: 1 | C5: 4 | D5: 4 | E5: cross-section | F5: annual growth rate | G5: smlt | H5: yes | I5: no | J5: 25 | K5: -0.58 | L5: -12.93 | M5: -0.1293 | N5: 4.1442308 | O5: 0.041442308 | P5: -3.12 | Q5: -3.12 | R5: corr-eff.size=effect size/100 | U5: growth rate | V5: no | W5: unchanged | X5: (effect size)•100
A6: Alesina and Rodrik (1994) | B6: 1 | C6: 5 | D6: 5 | E6: cross-section | F6: annual growth rate | G6: ols | H6: yes | I6: no | J6: 25 | K6: -0.38 | L6: -3.47 | M6: -0.0347 | N6: 1.9065934 | O6: 0.019065934 | P6: -1.82 | Q6: -1.82 | V6: yes | W6: (effect size)/100 | X6: unchanged
A7: Alesina and Rodrik (1994) | B7: 1 | C7: 6 | D7: 6 | E7: cross-section | F7: annual growth rate | G7: ols | H7: yes | I7: no | J7: 25 | K7: -0.39 | L7: -3.45 | M7: -0.0345 | N7: 1.9273743 | O7: 0.019273743 | P7: -1.79 | Q7: -1.79
A8: Alesina and Rodrik (1994) | B8: 1 | C8: 7 | D8: 7 | E8: cross-section | F8: annual growth rate | G8: ols | H8: yes | I8: no | J8: 25 | K8: -0.38 | L8: -3.47 | M8: -0.0347 | N8: 1.9277778 | O8: 0.019277778 | P8: -1.8 | Q8: -1.8
A9: Alesina and Rodrik (1994) | B9: 1 | C9: 8 | D9: 8 | E9: cross-section | F9: annual growth rate | G9: ols | H9: yes | I9: no | J9: 25 | K9: -0.29 | L9: -9.71 | M9: -0.0971 | N9: 2.6823204 | O9: 0.026823204 | P9: -3.62 | Q9: -3.62 | U9: note: when the growth rate is not annual, the coefficients in the primary studies have been divided by the lenght of the growth period
A10: Alesina and Rodrik (1994) | B10: 1 | C10: 9 | D10: 9 | E10: cross-section | F10: annual growth rate | G10: ols | H10: yes | I10: no | J10: 25 | K10: -0.27 | L10: -7.95 | M10: -0.0795 | N10: 2.277937 | O10: 0.02277937 | P10: -3.49 | Q10: -3.49
A11: Alesina and Rodrik (1994) | B11: 1 | C11: 10 | D11: 10 | E11: cross-section | F11: annual growth rate | G11: ols | H11: yes | I11: no | J11: 25 | K11: -0.28 | L11: -5.71 | M11: -0.0571 | N11: 2.4506438 | O11: 0.024506438 | P11: -2.33 | Q11: -2.33
A12: Alesina and Rodrik (1994) | B12: 1 | C12: 11 | D12: 11 | E12: cross-section | F12: annual growth rate | G12: ols | H12: yes | I12: no | J12: 25 | K12: -0.28 | L12: -5.74 | M12: -0.0574 | N12: 2.4956522 | O12: 0.024956522 | P12: -2.3 | Q12: -2.3
A13: Alesina and Rodrik (1994) | B13: 1 | C13: 12 | D13: 12 | E13: cross-section | F13: annual growth rate | G13: ols | H13: yes | I13: no | J13: 25 | K13: -0.27 | L13: -5.73 | M13: -0.0573 | N13: 2.4913043 | O13: 0.024913043 | P13: -2.3 | Q13: -2.3
A14: Banerjee and Duflo (2003) | B14: 2 | C14: 1 | D14: 13 | E14: pooled | F14: annual growth rate | G14: random effects | H14: no | I14: yes | J14: 5 | K14: na | L14: 0.021 | M14: 0.021 | N14: 0.09 | O14: 0.09 | P14: 0.23333333 | Q14: 0.23333333 | R14: (Banerjee and Duflo)
A15: Banerjee and Duflo (2003) | B15: 2 | C15: 2 | D15: 14 | E15: pooled | F15: annual growth rate | G15: first differences | H15: no | I15: yes | J15: 5 | K15: na | L15: 0.298 | M15: 0.298 | N15: 0.18 | O15: 0.18 | P15: 1.6555556 | Q15: 1.6555556 | R15: values in this study don't require to be corrected
A16: Banerjee and Duflo (2003) | B16: 2 | C16: 3 | D16: 15 | E16: pooled | F16: annual growth rate | G16: fixed effects | H16: no | I16: yes | J16: 5 | K16: na | L16: 0.297 | M16: 0.297 | N16: 0.16 | O16: 0.16 | P16: 1.85625 | Q16: 1.85625
A17: Banerjee and Duflo (2003) | B17: 2 | C17: 4 | D17: 16 | E17: pooled | F17: annual growth rate | G17: gmm | H17: no | I17: yes | J17: 5 | K17: na | L17: 0.56 | M17: 0.56 | N17: 0.039 | O17: 0.039 | P17: 14.358974 | Q17: 14.358974
A18: Banerjee and Duflo (2003) | B18: 2 | C18: 5 | D18: 17 | E18: pooled | F18: annual growth rate | G18: random effects | H18: no | I18: yes | J18: 5 | K18: na | L18: -0.03 | M18: -0.03 | N18: 0.043 | O18: 0.043 | P18: -0.69767442 | Q18: -0.69767442
A19: Banerjee and Duflo (2003) | B19: 2 | C19: 6 | D19: 18 | E19: pooled | F19: annual growth rate | G19: first differences | H19: no | I19: yes | J19: 5 | K19: na | L19: 0.158 | M19: 0.158 | N19: 0.068 | O19: 0.068 | P19: 2.3235294 | Q19: 2.3235294
A20: Banerjee and Duflo (2003) | B20: 2 | C20: 7 | D20: 19 | E20: pooled | F20: annual growth rate | G20: fixed effects | H20: no | I20: yes | J20: 5 | K20: na | L20: 0.155 | M20: 0.155 | N20: 0.063 | O20: 0.063 | P20: 2.4603175 | Q20: 2.4603175
A21: Banerjee and Duflo (2003) | B21: 2 | C21: 8 | D21: 20 | E21: pooled | F21: annual growth rate | G21: gmm | H21: no | I21: yes | J21: 5 | K21: na | L21: 0.27 | M21: 0.27 | N21: 0.016 | O21: 0.016 | P21: 16.875 | Q21: 16.875
A22: Clarke (1995) | B22: 3 | C22: 1 | D22: 21 | E22: cross-section | F22: annual growth rate | G22: ols | H22: no | I22: no | J22: 28 | K22: -0.0026 | L22: -0.0691 | M22: -0.0691 | N22: 0.026679537 | O22: 0.026679537 | P22: -2.59 | Q22: -2.59 | R22: (Clarke)
A23: Clarke (1995) | B23: 3 | C23: 2 | D23: 22 | E23: cross-section | F23: annual growth rate | G23: ols | H23: no | I23: no | J23: 28 | K23: -0.00253 | L23: -0.0547 | M23: -0.0547 | N23: 0.025207373 | O23: 0.025207373 | P23: -2.17 | Q23: -2.17 | R23: values in this study don't require to be corrected
A24: Clarke (1995) | B24: 3 | C24: 3 | D24: 23 | E24: cross-section | F24: annual growth rate | G24: ols | H24: no | I24: no | J24: 28 | K24: -0.00402 | L24: -0.0678 | M24: -0.0678 | N24: 0.028728814 | O24: 0.028728814 | P24: -2.36 | Q24: -2.36
A25: Clarke (1995) | B25: 3 | C25: 4 | D25: 24 | E25: cross-section | F25: annual growth rate | G25: ols | H25: no | I25: no | J25: 28 | K25: -0.0026 | L25: -0.0691 | M25: -0.0691 | N25: 0.022730263 | O25: 0.022730263 | P25: -3.04 | Q25: -3.04
A26: Clarke (1995) | B26: 3 | C26: 5 | D26: 25 | E26: cross-section | F26: annual growth rate | G26: ols | H26: no | I26: no | J26: 28 | K26: -0.0008 | L26: -0.0589 | M26: -0.0589 | N26: 0.017172012 | O26: 0.017172012 | P26: -3.43 | Q26: -3.43
A27: Clarke (1995) | B27: 3 | C27: 6 | D27: 26 | E27: cross-section | F27: annual growth rate | G27: smlt | H27: no | I27: no | J27: 28 | K27: -0.0025 | L27: -0.1713 | M27: -0.1713 | N27: 0.051441441 | O27: 0.051441441 | P27: -3.33 | Q27: -3.33
A28: Clarke (1995) | B28: 3 | C28: 7 | D28: 27 | E28: cross-section | F28: annual growth rate | G28: ols | H28: no | I28: no | J28: 28 | K28: -0.003 | L28: -0.0783 | M28: -0.0783 | N28: 0.02943609 | O28: 0.02943609 | P28: -2.66 | Q28: -2.66
A29: Deininger and Olinto (2000) | B29: 4 | C29: 1 | D29: 28 | E29: pooled | F29: annual growth rate | G29: gmm | H29: yes | I29: yes | J29: 5 | K29: -0.1887 | L29: 0.0017 | M29: 0.17 | N29: 0.0021 | O29: 0.21 | P29: 0.80952381 | Q29: 0.80952381
A30: Deininger and Olinto (2000) | B30: 4 | C30: 2 | D30: 29 | E30: pooled | F30: annual growth rate | G30: gmm | H30: yes | I30: yes | J30: 5 | K30: -0.0573 | L30: -0.0035 | M30: -0.35 | N30: 0.001 | O30: 0.1 | P30: -3.5 | Q30: -3.5
A31: Deininger and Olinto (2000) | B31: 4 | C31: 3 | D31: 30 | E31: pooled | F31: annual growth rate | G31: fixed effects | H31: yes | I31: yes | J31: 5 | K31: -0.417 | L31: 0.0033 | M31: 0.33 | N31: 0.0023 | O31: 0.23 | P31: 1.4347826 | Q31: 1.4347826 | R31: (Deininger and Olinto)
A32: Deininger and Olinto (2000) | B32: 4 | C32: 4 | D32: 31 | E32: pooled | F32: annual growth rate | G32: gmm | H32: yes | I32: yes | J32: 5 | K32: -0.0529 | L32: 0.0041 | M32: 0.41 | N32: 0.0016 | O32: 0.16 | P32: 2.5625 | Q32: 2.5625 | R32: the correct effect sizes have been obtained as:
A33: Deininger and Olinto (2000) | B33: 4 | C33: 5 | D33: 32 | E33: pooled | F33: annual growth rate | G33: gmm | H33: yes | I33: yes | J33: 5 | K33: -0.2481 | L33: -0.0057 | M33: -0.57 | N33: 0.0009 | O33: 0.09 | P33: -6.3333333 | Q33: -6.3333333 | R33: corr.eff-size=eff.size*100
A34: Deininger and Olinto (2000) | B34: 4 | C34: 6 | D34: 33 | E34: pooled | F34: annual growth rate | G34: fixed effects | H34: yes | I34: yes | J34: 5 | K34: -0.3381 | L34: 0.0033 | M34: 0.33 | N34: 0.0023 | O34: 0.23 | P34: 1.4347826 | Q34: 1.4347826
A35: Deininger and Olinto (2000) | B35: 4 | C35: 7 | D35: 34 | E35: pooled | F35: annual growth rate | G35: gmm | H35: yes | I35: yes | J35: 5 | K35: -0.11 | L35: 0.0046 | M35: 0.46 | N35: 0.001 | O35: 0.1 | P35: 4.6 | Q35: 4.6
A36: Deininger and Olinto (2000) | B36: 4 | C36: 8 | D36: 35 | E36: pooled | F36: annual growth rate | G36: gmm | H36: yes | I36: yes | J36: 5 | K36: -0.173 | L36: 0.0009 | M36: 0.09 | N36: 0.0006 | O36: 0.06 | P36: 1.5 | Q36: 1.5
A37: Deininger and Olinto (2000) | B37: 4 | C37: 9 | D37: 36 | E37: pooled | F37: annual growth rate | G37: fixed effects | H37: yes | I37: yes | J37: 5 | K37: -0.6392 | L37: 0.0032 | M37: 0.32 | N37: 0.0022 | O37: 0.22 | P37: 1.4545455 | Q37: 1.4545455
A38: Deininger and Squire (1998) | B38: 5 | C38: 1 | D38: 37 | E38: cross-section | F38: annual growth rate | G38: ols | H38: yes | I38: yes | J38: 32 | K38: -0.302 | L38: -0.047 | M38: -0.047 | N38: 0.016785714 | O38: 0.016785714 | P38: 2.8 | Q38: -2.8
A39: Deininger and Squire (1998) | B39: 5 | C39: 2 | D39: 38 | E39: cross-section | F39: annual growth rate | G39: ols | H39: yes | I39: yes | J39: 32 | K39: -0.205 | L39: -0.019 | M39: -0.019 | N39: 0.02 | O39: 0.02 | P39: 0.95 | Q39: -0.95
A40: Deininger and Squire (1998) | B40: 5 | C40: 3 | D40: 39 | E40: cross-section | F40: annual growth rate | G40: ols | H40: yes | I40: yes | J40: 32 | K40: -0.308 | L40: -0.025 | M40: -0.025 | N40: 0.018656716 | O40: 0.018656716 | P40: 1.34 | Q40: -1.34
...

Sheet meta_alphanumerical
A1: reference | B1: study KEY | C1: year_p | D1: study ID | E1: estimate ID | F1: obs | G1: publication status | H1: cross-section or pooled | I1: estimator | J1: correction for heteroscedasticity | K1: Effect size | L1: standard errors | M1: t-stat | N1: first year | O1: time span | P1: lenght of the growth period | Q1: aggregation | R1: oecd or ldc | S1: inequality dataset | T1: quality | U1: value of inequality measure | V1: Gini definition | W1: number of inequality proxies | X1: regional effects
A2: Alesina and Rodrik (1994) | B2: ar(1994) | C2: 1994 | D2: 1 | E2: 1 | F2: 1 | G2: journal | H2: cross-section | I2: ols | J2: no | K2: -0.057 | L2: 0.023170732 | M2: -2.46 | N2: 1960 | O2: 25 | P2: 25 | Q2: country | R2: oecd&ldc | S2: jain | T2: high | U2: initial | V2: mixed | W2: 1 | X2: no
A3: Alesina and Rodrik (1994) | B3: ar(1994) | C3: 1994 | D3: 1 | E3: 2 | F3: 2 | G3: journal | H3: cross-section | I3: smlt | J3: no | K3: -0.1598 | L3: 0.049781931 | M3: -3.21 | N3: 1960 | O3: 25 | P3: 25 | Q3: country | R3: oecd&ldc | S3: jain | T3: high | U3: initial | V3: mixed | W3: 1 | X3: no
A4: Alesina and Rodrik (1994) | B4: ar(1994) | C4: 1994 | D4: 1 | E4: 3 | F4: 3 | G4: journal | H4: cross-section | I4: ols | J4: no | K4: -0.0358 | L4: 0.019779006 | M4: -1.81 | N4: 1960 | O4: 25 | P4: 25 | Q4: country | R4: oecd&ldc | S4: jain | T4: high&low | U4: initial | V4: mixed | W4: 1 | X4: no
A5: Alesina and Rodrik (1994) | B5: ar(1994) | C5: 1994 | D5: 1 | E5: 4 | F5: 4 | G5: journal | H5: cross-section | I5: smlt | J5: no | K5: -0.1293 | L5: 0.041442308 | M5: -3.12 | N5: 1960 | O5: 25 | P5: 25 | Q5: country | R5: oecd&ldc | S5: jain | T5: high&low | U5: initial | V5: mixed | W5: 1 | X5: no
A6: Alesina and Rodrik (1994) | B6: ar(1994) | C6: 1994 | D6: 1 | E6: 5 | F6: 5 | G6: journal | H6: cross-section | I6: ols | J6: no | K6: -0.0347 | L6: 0.019065934 | M6: -1.82 | N6: 1960 | O6: 25 | P6: 25 | Q6: country | R6: oecd&ldc | S6: jain | T6: high&low | U6: initial | V6: mixed | W6: 2 | X6: no
A7: Alesina and Rodrik (1994) | B7: ar(1994) | C7: 1994 | D7: 1 | E7: 6 | F7: 6 | G7: journal | H7: cross-section | I7: ols | J7: no | K7: -0.0345 | L7: 0.019273743 | M7: -1.79 | N7: 1960 | O7: 25 | P7: 25 | Q7: country | R7: oecd&ldc | S7: jain | T7: high&low | U7: initial | V7: mixed | W7: 2 | X7: no
A8: Alesina and Rodrik (1994) | B8: ar(1994) | C8: 1994 | D8: 1 | E8: 7 | F8: 7 | G8: journal | H8: cross-section | I8: ols | J8: no | K8: -0.0347 | L8: 0.019277778 | M8: -1.8 | N8: 1960 | O8: 25 | P8: 25 | Q8: country | R8: oecd&ldc | S8: jain | T8: high&low | U8: initial | V8: mixed | W8: 2 | X8: no
A9: Alesina and Rodrik (1994) | B9: ar(1994) | C9: 1994 | D9: 1 | E9: 8 | F9: 8 | G9: journal | H9: cross-section | I9: ols | J9: no | K9: -0.0971 | L9: 0.026823204 | M9: -3.62 | N9: 1960 | O9: 25 | P9: 25 | Q9: country | R9: oecd&ldc | S9: jain | T9: high | U9: initial | V9: mixed | W9: 1 | X9: no
A10: Alesina and Rodrik (1994) | B10: ar(1994) | C10: 1994 | D10: 1 | E10: 9 | F10: 9 | G10: journal | H10: cross-section | I10: ols | J10: no | K10: -0.0795 | L10: 0.02277937 | M10: -3.49 | N10: 1960 | O10: 25 | P10: 25 | Q10: country | R10: oecd&ldc | S10: jain | T10: high&low | U10: initial | V10: mixed | W10: 1 | X10: no
A11: Alesina and Rodrik (1994) | B11: ar(1994) | C11: 1994 | D11: 1 | E11: 10 | F11: 10 | G11: journal | H11: cross-section | I11: ols | J11: no | K11: -0.0571 | L11: 0.024506438 | M11: -2.33 | N11: 1960 | O11: 25 | P11: 25 | Q11: country | R11: oecd&ldc | S11: jain | T11: high&low | U11: initial | V11: mixed | W11: 2 | X11: no
A12: Alesina and Rodrik (1994) | B12: ar(1994) | C12: 1994 | D12: 1 | E12: 11 | F12: 11 | G12: journal | H12: cross-section | I12: ols | J12: no | K12: -0.0574 | L12: 0.024956522 | M12: -2.3 | N12: 1960 | O12: 25 | P12: 25 | Q12: country | R12: oecd&ldc | S12: jain | T12: high&low | U12: initial | V12: mixed | W12: 2 | X12: no
A13: Alesina and Rodrik (1994) | B13: ar(1994) | C13: 1994 | D13: 1 | E13: 12 | F13: 12 | G13: journal | H13: cross-section | I13: ols | J13: no | K13: -0.0573 | L13: 0.024913043 | M13: -2.3 | N13: 1960 | O13: 25 | P13: 25 | Q13: country | R13: oecd&ldc | S13: jain | T13: high&low | U13: initial | V13: mixed | W13: 2 | X13: no
... A410: Szekely and Hilgert (1999) | B410: Szhi(1999) | C410: 1999 | D410: 38 | E410: 3 | F410: 412 | G410: working paper | H410: pooled | I410: fixed effects | J410: no | K410: 0.00117 | L410: 0.0039 | M410: 0.3 | N410: 1987 | O410: 11 | P410: 1 | Q410: country | R410: oecd&ldc | S410: other | T410: high&low | U410: initial | V410: adjusted | W410: 1 | X410: no

Sheet meta_numerical
A1: reference | B1: study key | C1: year_p | D1: wp | E1: study id | F1: estimate id | G1: obs | H1: effect size | I1: se | J1: pooled | K1: cross | L1: ols | M1: fixed effects | N1: random effects | O1: gmm | P1: simultaneous | Q1: endogeneity | R1: first year | S1: lenght of growth period | T1: country | U1: regions | V1: oecd | W1: ldc | X1: oecd&ldc | Y1: other_dataset | Z1: high | AA1: low | AB1: high&low | AC1: gini_initial | AD1: gini_avg | AE1: gini_mixed | AF1: gini_exp | AG1: gini_adj | AH1: oth_ineq | AI1: cntry | AJ1: c_data
A2: Alesina and Rodrik (1994) | B2: ar(1994) | C2: 1994 | D2: 0 | E2: 1 | F2: 1 | G2: 1 | H2: -0.057 | I2: 0.023170732 | J2: 0 | K2: 1 | L2: 1 | M2: 0 | N2: 0 | O2: 0 | P2: 0 | Q2: 0 | R2: 1960 | S2: 25 | T2: 1 | U2: 0 | V2: 0 | W2: 0 | X2: 1 | Y2: 1 | Z2: 1 | AA2: 0 | AB2: 0 | AC2: 1 | AD2: 0 | AE2: 1 | AF2: 0 | AG2: 0 | AH2: 0 | AI2: 0 | AJ2: 1
A3: Alesina and Rodrik (1994) | B3: ar(1994) | C3: 1994 | D3: 0 | E3: 1 | F3: 2 | G3: 2 | H3: -0.1598 | I3: 0.049781931 | J3: 0 | K3: 1 | L3: 0 | M3: 0 | N3: 0 | O3: 0 | P3: 1 | Q3: 1 | R3: 1960 | S3: 25 | T3: 1 | U3: 0 | V3: 0 | W3: 0 | X3: 1 | Y3: 1 | Z3: 1 | AA3: 0 | AB3: 0 | AC3: 1 | AD3: 0 | AE3: 1 | AF3: 0 | AG3: 0 | AH3: 0 | AI3: 0 | AJ3: 1
A4: Alesina and Rodrik (1994) | B4: ar(1994) | C4: 1994 | D4: 0 | E4: 1 | F4: 3 | G4: 3 | H4: -0.0358 | I4: 0.019779006 | J4: 0 | K4: 1 | L4: 1 | M4: 0 | N4: 0 | O4: 0 | P4: 0 | Q4: 0 | R4: 1960 | S4: 25 | T4: 1 | U4: 0 | V4: 0 | W4: 0 | X4: 1 | Y4: 1 | Z4: 0 | AA4: 0 | AB4: 1 | AC4: 1 | AD4: 0 | AE4: 1 | AF4: 0 | AG4: 0 | AH4: 0 | AI4: 0 | AJ4: 1
A5: Alesina and Rodrik (1994) | B5: ar(1994) | C5: 1994 | D5: 0 | E5: 1 | F5: 4 | G5: 4 | H5: -0.1293 | I5: 0.041442308 | J5: 0 | K5: 1 | L5: 0 | M5: 0 | N5: 0 | O5: 0 | P5: 1 | Q5: 1 | R5: 1960 | S5: 25 | T5: 1 | U5: 0 | V5: 0 | W5: 0 | X5: 1 | Y5: 1 | Z5: 0 | AA5: 0 | AB5: 1 | AC5: 1 | AD5: 0 | AE5: 1 | AF5: 0 | AG5: 0 | AH5: 0 | AI5: 0 | AJ5: 1
A6: Alesina and Rodrik (1994) | B6: ar(1994) | C6: 1994 | D6: 0 | E6: 1 | F6: 5 | G6: 5 | H6: -0.0347 | I6: 0.019065934 | J6: 0 | K6: 1 | L6: 1 | M6: 0 | N6: 0 | O6: 0 | P6: 0 | Q6: 0 | R6: 1960 | S6: 25 | T6: 1 | U6: 0 | V6: 0 | W6: 0 | X6: 1 | Y6: 1 | Z6: 0 | AA6: 0 | AB6: 1 | AC6: 1 | AD6: 0 | AE6: 0 | AF6: 0 | AG6: 1 | AH6: 1 | AI6: 0 | AJ6: 1
A7: Alesina and Rodrik (1994) | B7: ar(1994) | C7: 1994 | D7: 0 | E7: 1 | F7: 6 | G7: 6 | H7: -0.0345 | I7: 0.019273743 | J7: 0 | K7: 1 | L7: 1 | M7: 0 | N7: 0 | O7: 0 | P7: 0 | Q7: 0 | R7: 1960 | S7: 25 | T7: 1 | U7: 0 | V7: 0 | W7: 0 | X7: 1 | Y7: 1 | Z7: 0 | AA7: 0 | AB7: 1 | AC7: 1 | AD7: 0 | AE7: 0 | AF7: 0 | AG7: 1 | AH7: 1 | AI7: 0 | AJ7: 1
A8: Alesina and Rodrik (1994) | B8: ar(1994) | C8: 1994 | D8: 0 | E8: 1 | F8: 7 | G8: 7 | H8: -0.0347 | I8: 0.019277778 | J8: 0 | K8: 1 | L8: 1 | M8: 0 | N8: 0 | O8: 0 | P8: 0 | Q8: 0 | R8: 1960 | S8: 25 | T8: 1 | U8: 0 | V8: 0 | W8: 0 | X8: 1 | Y8: 1 | Z8: 0 | AA8: 0 | AB8: 1 | AC8: 1 | AD8: 0 | AE8: 0 | AF8: 0 | AG8: 1 | AH8: 1 | AI8: 0 | AJ8: 1
A9: Alesina and Rodrik (1994) | B9: ar(1994) | C9: 1994 | D9: 0 | E9: 1 | F9: 8 | G9: 8 | H9: -0.0971 | I9: 0.026823204 | J9: 0 | K9: 1 | L9: 1 | M9: 0 | N9: 0 | O9: 0 | P9: 0 | Q9: 0 | R9: 1960 | S9: 25 | T9: 1 | U9: 0 | V9: 0 | W9: 0 | X9: 1 | Y9: 1 | Z9: 0 | AA9: 0 | AB9: 0 | AC9: 1 | AD9: 0 | AE9: 0 | AF9: 0 | AG9: 1 | AH9: 0 | AI9: 0 | AJ9: 1
A10: Alesina and Rodrik (1994) | B10: ar(1994) | C10: 1994 | D10: 0 | E10: 1 | F10: 9 | G10: 9 | H10: -0.0795 | I10: 0.02277937 | J10: 0 | K10: 1 | L10: 1 | M10: 0 | N10: 0 | O10: 0 | P10: 0 | Q10: 0 | R10: 1960 | S10: 25 | T10: 1 | U10: 0 | V10: 0 | W10: 0 | X10: 1 | Y10: 1 | Z10: 0 | AA10: 0 | AB10: 1 | AC10: 1 | AD10: 0 | AE10: 0 | AF10: 0 | AG10: 1 | AH10: 0 | AI10: 0 | AJ10: 1
A11: Alesina and Rodrik (1994) | B11: ar(1994) | C11: 1994 | D11: 0 | E11: 1 | F11: 10 | G11: 10 | H11: -0.0571 | I11: 0.024506438 | J11: 0 | K11: 1 | L11: 1 | M11: 0 | N11: 0 | O11: 0 | P11: 0 | Q11: 0 | R11: 1960 | S11: 25 | T11: 1 | U11: 0 | V11: 0 | W11: 0 | X11: 1 | Y11: 1 | Z11: 0 | AA11: 0 | AB11: 1 | AC11: 1 | AD11: 0 | AE11: 0 | AF11: 0 | AG11: 1 | AH11: 1 | AI11: 0 | AJ11: 1
A12: Alesina and Rodrik (1994) | B12: ar(1994) | C12: 1994 | D12: 0 | E12: 1 | F12: 11 | G12: 11 | H12: -0.0574 | I12: 0.024956522 | J12: 0 | K12: 1 | L12: 1 | M12: 0 | N12: 0 | O12: 0 | P12: 0 | Q12: 0 | R12: 1960 | S12: 25 | T12: 1 | U12: 0 | V12: 0 | W12: 0 | X12: 1 | Y12: 1 | Z12: 0 | AA12: 0 | AB12: 1 | AC12: 1 | AD12: 0 | AE12: 0 | AF12: 0 | AG12: 1 | AH12: 1 | AI12: 0 | AJ12: 1
A13: Alesina and Rodrik (1994) | B13: ar(1994) | C13: 1994 | D13: 0 | E13: 1 | F13: 12 | G13: 12 | H13: -0.0573 | I13: 0.024913043 | J13: 0 | K13: 1 | L13: 1 | M13: 0 | N13: 0 | O13: 0 | P13: 0 | Q13: 0 | R13: 1960 | S13: 25 | T13: 1 | U13: 0 | V13: 0 | W13: 0 | X13: 1 | Y13: 1 | Z13: 0 | AA13: 0 | AB13: 1 | AC13: 1 | AD13: 0 | AE13: 0 | AF13: 0 | AG13: 1 | AH13: 1 | AI13: 0 | AJ13: 1
... A410: Szekely and Hilgert (1999) | B410: Szhi(1999) | C410: 1999 | D410: 1 | E410: 38 | F410: 3 | G410: 412 | H410: 0.00117 | I410: 0.0039 | J410: 1 | K410: 0 | L410: 0 | M410: 1 | N410: 0 | O410: 0 | P410: 0 | Q410: 0 | R410: 1987 | S410: 1 | T410: 1 | U410: 0 | V410: 0 | W410: 0 | X410: 1 | Y410: 1 | Z410: 0 | AA410: 0 | AB410: 1 | AC410: 1 | AD410: 0 | AE410: 0 | AF410: 0 | AG410: 0 | AH410: 0 | AI410: 0 | AJ410: 0

Sheet input_estimations(no_outliers)
A1: study key | B1: study id | C1: obs | D1: eff_size | E1: se | F1: year_p | G1: year_p_r | H1: wp | I1: pooled | J1: fe | K1: re | L1: end | M1: year0 | N1: year0_r | O1: grper | P1: regions | Q1: oecd | R1: ldc | S1: oth_dataset | T1: low | U1: high&low | V1: gini_avg | W1: gini_mixed | X1: gini_exp | Y1: gini_adj | Z1: oth_ineq | AA1: cntry | AB1: c_data
A2: ar(1994) | B2: 1 | C2: 1 | D2: -0.057 | E2: 0.023170732 | F2: 1994 | G2: 94 | H2: 0 | I2: 0 | J2: 0 | K2: 0 | L2: 0 | M2: 1960 | N2: 60 | O2: 25 | P2: 0 | Q2: 0 | R2: 0 | S2: 1 | T2: 0 | U2: 0 | V2: 0 | W2: 1 | X2: 0 | Y2: 0 | Z2: 0 | AA2: 0 | AB2: 1
A3: ar(1994) | B3: 1 | C3: 2 | D3: -0.1598 | E3: 0.049781931 | F3: 1994 | G3: 94 | H3: 0 | I3: 0 | J3: 0 | K3: 0 | L3: 1 | M3: 1960 | N3: 60 | O3: 25 | P3: 0 | Q3: 0 | R3: 0 | S3: 1 | T3: 0 | U3: 0 | V3: 0 | W3: 1 | X3: 0 | Y3: 0 | Z3: 0 | AA3: 0 | AB3: 1
A4: ar(1994) | B4: 1 | C4: 3 | D4: -0.0358 | E4: 0.019779006 | F4: 1994 | G4: 94 | H4: 0 | I4: 0 | J4: 0 | K4: 0 | L4: 0 | M4: 1960 | N4: 60 | O4: 25 | P4: 0 | Q4: 0 | R4: 0 | S4: 1 | T4: 0 | U4: 1 | V4: 0 | W4: 1 | X4: 0 | Y4: 0 | Z4: 0 | AA4: 0 | AB4: 1
A5: ar(1994) | B5: 1 | C5: 4 | D5: -0.1293 | E5: 0.041442308 | F5: 1994 | G5: 94 | H5: 0 | I5: 0 | J5: 0 | K5: 0 | L5: 1 | M5: 1960 | N5: 60 | O5: 25 | P5: 0 | Q5: 0 | R5: 0 | S5: 1 | T5: 0 | U5: 1 | V5: 0 | W5: 1 | X5: 0 | Y5: 0 | Z5: 0 | AA5: 0 | AB5: 1
A6: ar(1994) | B6: 1 | C6: 5 | D6: -0.0347 | E6: 0.019065934 | F6: 1994 | G6: 94 | H6: 0 | I6: 0 | J6: 0 | K6: 0 | L6: 0 | M6: 1960 | N6: 60 | O6: 25 | P6: 0 | Q6: 0 | R6: 0 | S6: 1 | T6: 0 | U6: 1 | V6: 0 | W6: 0 | X6: 0 | Y6: 1 | Z6: 1 | AA6: 0 | AB6: 1
A7: ar(1994) | B7: 1 | C7: 6 | D7: -0.0345 | E7: 0.019273743 | F7: 1994 | G7: 94 | H7: 0 | I7: 0 | J7: 0 | K7: 0 | L7: 0 | M7: 1960 | N7: 60 | O7: 25 | P7: 0 | Q7: 0 | R7: 0 | S7: 1 | T7: 0 | U7: 1 | V7: 0 | W7: 0 | X7: 0 | Y7: 1 | Z7: 1 | AA7: 0 | AB7: 1
A8: ar(1994) | B8: 1 | C8: 7 | D8: -0.0347 | E8: 0.019277778 | F8: 1994 | G8: 94 | H8: 0 | I8: 0 | J8: 0 | K8: 0 | L8: 0 | M8: 1960 | N8: 60 | O8: 25 | P8: 0 | Q8: 0 | R8: 0 | S8: 1 | T8: 0 | U8: 1 | V8: 0 | W8: 0 | X8: 0 | Y8: 1 | Z8: 1 | AA8: 0 | AB8: 1
A9: ar(1994) | B9: 1 | C9: 8 | D9: -0.0971 | E9: 0.026823204 | F9: 1994 | G9: 94 | H9: 0 | I9: 0 | J9: 0 | K9: 0 | L9: 0 | M9: 1960 | N9: 60 | O9: 25 | P9: 0 | Q9: 0 | R9: 0 | S9: 1 | T9: 0 | U9: 0 | V9: 0 | W9: 0 | X9: 0 | Y9: 1 | Z9: 0 | AA9: 0 | AB9: 1
A10: ar(1994) | B10: 1 | C10: 9 | D10: -0.0795 | E10: 0.02277937 | F10: 1994 | G10: 94 | H10: 0 | I10: 0 | J10: 0 | K10: 0 | L10: 0 | M10: 1960 | N10: 60 | O10: 25 | P10: 0 | Q10: 0 | R10: 0 | S10: 1 | T10: 0 | U10: 1 | V10: 0 | W10: 0 | X10: 0 | Y10: 1 | Z10: 0 | AA10: 0 | AB10: 1
A11: ar(1994) | B11: 1 | C11: 10 | D11: -0.0571 | E11: 0.024506438 | F11: 1994 | G11: 94 | H11: 0 | I11: 0 | J11: 0 | K11: 0 | L11: 0 | M11: 1960 | N11: 60 | O11: 25 | P11: 0 | Q11: 0 | R11: 0 | S11: 1 | T11: 0 | U11: 1 | V11: 0 | W11: 0 | X11: 0 | Y11: 1 | Z11: 1 | AA11: 0 | AB11: 1
A12: ar(1994) | B12: 1 | C12: 11 | D12: -0.0574 | E12: 0.024956522 | F12: 1994 | G12: 94 | H12: 0 | I12: 0 | J12: 0 | K12: 0 | L12: 0 | M12: 1960 | N12: 60 | O12: 25 | P12: 0 | Q12: 0 | R12: 0 | S12: 1 | T12: 0 | U12: 1 | V12: 0 | W12: 0 | X12: 0 | Y12: 1 | Z12: 1 | AA12: 0 | AB12: 1
A13: ar(1994) | B13: 1 | C13: 12 | D13: -0.0573 | E13: 0.024913043 | F13: 1994 | G13: 94 | H13: 0 | I13: 0 | J13: 0 | K13: 0 | L13: 0 | M13: 1960 | N13: 60 | O13: 25 | P13: 0 | Q13: 0 | R13: 0 | S13: 1 | T13: 0 | U13: 1 | V13: 0 | W13: 0 | X13: 0 | Y13: 1 | Z13: 1 | AA13: 0 | AB13: 1
... A408: Szhi(1999) | B408: 38 | C408: 412 | D408: 0.00117 | E408: 0.0039 | F408: 1999 | G408: 99 | H408: 1 | I408: 1 | J408: 1 | K408: 0 | L408: 0 | M408: 1987 | N408: 87 | O408: 1 | P408: 0 | Q408: 0 | R408: 0 | S408: 1 | T408: 0 | U408: 1 | V408: 0 | W408: 0 | X408: 0 | Y408: 0 | Z408: 0 | AA408: 0 | AB408: 0
